BEGIN:VCALENDAR
VERSION:2.0
PRODID:-//wp-events-plugin.com//7.2.2.1//EN
BEGIN:VEVENT
UID:727@lovewokingham.co.uk
DTSTART;TZID=Europe/London:20241214T183000
DTEND;TZID=Europe/London:20241214T203000
DTSTAMP:20241114T095648Z
URL:https://www.lovewokingham.co.uk/events/family-christmas-carol-concert
SUMMARY:Family Christmas Carol Concert
DESCRIPTION:Wokingham Choral Societies' annual Family Christmas Carol Conce
 rt at All Saint's Wokingham on Saturday 14th December. Concert starts at 6
 :30\, refreshments served from 5:45 pm. Promises to be a lovely evening wi
 th a chance to sing favorite carols and hear WCS present a range of intere
 sting and beautiful pieces for Christmas.\n\nAdmission by programme. Adult
 s £12\, Students and u18s £5 under 5s free http://ticketsource.co.uk/wo
 kingham-choral-society\n\nOr from Wokingham Information Centre\, Newbury B
 uilding Society and Jays Printers.\n\n&nbsp\;\n\n&nbsp\;
ATTACH;FMTTYPE=image/jpeg:https://www.lovewokingham.co.uk/wp-content/uploa
 ds/2024/11/465580826_1065925145542948_7404077763152795334_n.jpg
CATEGORIES:Mailchimp Events
LOCATION:All Saints Church\, Wiltshire Road\, Wokingham\, Berkshire\, RG401
 TN\, United Kingdom
GEO:51.412502;-0.829743
X-APPLE-STRUCTURED-LOCATION;VALUE=URI;X-ADDRESS=Wiltshire Road\, Wokingham\
 , Berkshire\, RG401TN\, United Kingdom;X-APPLE-RADIUS=100;X-TITLE=All Sain
 ts Church:geo:51.412502,-0.829743
END:VEVENT
BEGIN:VTIMEZONE
TZID:Europe/London
X-LIC-LOCATION:Europe/London
BEGIN:STANDARD
DTSTART:20241027T010000
TZOFFSETFROM:+0100
TZOFFSETTO:+0000
TZNAME:GMT
END:STANDARD
END:VTIMEZONE
END:VCALENDAR