BEGIN:VCALENDAR
VERSION:2.0
PRODID:-//wp-events-plugin.com//7.2.2.1//EN
BEGIN:VEVENT
UID:109@lovewokingham.co.uk
DTSTART;TZID=Europe/London:20220407T190000
DTEND;TZID=Europe/London:20220407T213000
DTSTAMP:20220323T201809Z
URL:https://www.lovewokingham.co.uk/events/fashion-show
SUMMARY:Fashion Show
DESCRIPTION:Wade Fashion Show @ Wade Day Centre\nThursday 7th April 2022 fr
 om 7pm\n40 Reading Road\, Wokingham\, RG41 1EH\nTickets £10 (includes a g
 lass of wine/soft drink &amp\; nibbles)\nTickets: http://www.wadecentre.o
 rg.uk/events.php\nor email Jess: secretary@wadecentre.org.uk
ATTACH;FMTTYPE=image/jpeg:https://www.lovewokingham.co.uk/wp-content/uploa
 ds/2022/03/269597761_3053462248255156_2770211339595308351_n.jpg
LOCATION:Wade Day Care Centre\, 40 Reading Road\, Wokingham\, Berkshire\, R
 G41 1EH\, United Kingdom
X-APPLE-STRUCTURED-LOCATION;VALUE=URI;X-ADDRESS=40 Reading Road\, Wokingham
 \, Berkshire\, RG41 1EH\, United Kingdom;X-APPLE-RADIUS=100;X-TITLE=Wade D
 ay Care Centre:geo:0,0
END:VEVENT
BEGIN:VTIMEZONE
TZID:Europe/London
X-LIC-LOCATION:Europe/London
BEGIN:DAYLIGHT
DTSTART:20220327T020000
TZOFFSETFROM:+0000
TZOFFSETTO:+0100
TZNAME:BST
END:DAYLIGHT
END:VTIMEZONE
END:VCALENDAR