BEGIN:VCALENDAR
VERSION:2.0
PRODID:-//wp-events-plugin.com//7.2.2.1//EN
BEGIN:VEVENT
UID:428@lovewokingham.co.uk
DTSTART;TZID=Europe/London:20231224T190000
DTEND;TZID=Europe/London:20231224T200000
DTSTAMP:20231129T125711Z
URL:https://www.lovewokingham.co.uk/events/festive-disco-at-the-rose
SUMMARY:Festive Disco at The Rose
DESCRIPTION:Join the festive disco and live DJ upstairs in the Oakroom at T
 he Rose Inn on Market Place\nFrom 7PM\nFirst come first serve
ATTACH;FMTTYPE=image/jpeg:https://www.lovewokingham.co.uk/wp-content/uploa
 ds/2023/11/ChristmasPartyNight-Blue.jpg
CATEGORIES:Mailchimp Events
LOCATION:The Rose Inn\, Market Place\, Wokingham\, Berkshire\, RG40 1AS\, U
 nited Kingdom
X-APPLE-STRUCTURED-LOCATION;VALUE=URI;X-ADDRESS=Market Place\, Wokingham\, 
 Berkshire\, RG40 1AS\, United Kingdom;X-APPLE-RADIUS=100;X-TITLE=The Rose 
 Inn:geo:0,0
END:VEVENT
BEGIN:VTIMEZONE
TZID:Europe/London
X-LIC-LOCATION:Europe/London
BEGIN:STANDARD
DTSTART:20231029T010000
TZOFFSETFROM:+0100
TZOFFSETTO:+0000
TZNAME:GMT
END:STANDARD
END:VTIMEZONE
END:VCALENDAR