BEGIN:VCALENDAR
VERSION:2.0
PRODID:-//wp-events-plugin.com//7.2.2.1//EN
BEGIN:VEVENT
UID:950@lovewokingham.co.uk
DTSTART;TZID=Europe/London:20260108T193000
DTEND;TZID=Europe/London:20260108T213000
DTSTAMP:20251125T133327Z
URL:https://www.lovewokingham.co.uk/events/film-four-mothers-15
SUMMARY:Film: Four Mothers (15)
DESCRIPTION:\n\n\nWokingham Film Society presents: Four Mothers (15)\n\nA s
 truggling novelist who is forced to take care of three eccentric older wom
 en - and his own mother - over the course of one chaotic weekend in Dublin
 . Irish Comedy\n\nTickets: £6.50 non members / £4 members\n\n\n\nFull de
 tails and booking: https://wokinghamfilmsociety.com/our-programme
ATTACH;FMTTYPE=image/jpeg:https://www.lovewokingham.co.uk/wp-content/uploa
 ds/2025/10/82de5a91-c23b-4015-bbfc-2b2289dd859e-1.jpg
CATEGORIES:Mailchimp Events
LOCATION:The Whitty Theatre\, Luckley Road\, Wokingham\, Berkshire\, RG403E
 U\, United Kingdom
GEO:51.398838;-0.839821
X-APPLE-STRUCTURED-LOCATION;VALUE=URI;X-ADDRESS=Luckley Road\, Wokingham\, 
 Berkshire\, RG403EU\, United Kingdom;X-APPLE-RADIUS=100;X-TITLE=The Whitty
  Theatre:geo:51.398838,-0.839821
END:VEVENT
BEGIN:VTIMEZONE
TZID:Europe/London
X-LIC-LOCATION:Europe/London
BEGIN:STANDARD
DTSTART:20251026T010000
TZOFFSETFROM:+0100
TZOFFSETTO:+0000
TZNAME:GMT
END:STANDARD
END:VTIMEZONE
END:VCALENDAR