BEGIN:VCALENDAR
VERSION:2.0
PRODID:-//wp-events-plugin.com//7.2.2.1//EN
BEGIN:VEVENT
UID:777@lovewokingham.co.uk
DTSTART;TZID=Europe/London:20250522T193000
DTEND;TZID=Europe/London:20250522T213000
DTSTAMP:20250129T170928Z
URL:https://www.lovewokingham.co.uk/events/film-im-still-here-pg
SUMMARY:Film: I'm Still Here (PG)
DESCRIPTION:\n\n\nWokingham Film Society presents: I'm still Here (PG)\n\nB
 RAZIL\, 1971. Brazil faces the tightening grip of a military dictatorship.
  Eunice Paiva\, a mother of five children\, is forced to reinvent herself 
 after her family suffers a violent and arbitrary act by the government.\n\
 nI’m Still Here is based on Marcelo Rubens Paiva's biographical book and
  tells the true story that helped reconstruct an important part of Brazil
 ’s hidden history.\n\nTickets: £6.50 non members / £4 members\n\n\n\nF
 ull details and booking: https://wokinghamfilmsociety.com/our-programme
ATTACH;FMTTYPE=image/jpeg:https://www.lovewokingham.co.uk/wp-content/uploa
 ds/2025/01/Picture8.jpg
CATEGORIES:Mailchimp Events
LOCATION:The Whitty Theatre\, Luckley Road\, Wokingham\, Berkshire\, RG403E
 U\, United Kingdom
GEO:51.398838;-0.839821
X-APPLE-STRUCTURED-LOCATION;VALUE=URI;X-ADDRESS=Luckley Road\, Wokingham\, 
 Berkshire\, RG403EU\, United Kingdom;X-APPLE-RADIUS=100;X-TITLE=The Whitty
  Theatre:geo:51.398838,-0.839821
END:VEVENT
BEGIN:VTIMEZONE
TZID:Europe/London
X-LIC-LOCATION:Europe/London
BEGIN:DAYLIGHT
DTSTART:20250330T020000
TZOFFSETFROM:+0000
TZOFFSETTO:+0100
TZNAME:BST
END:DAYLIGHT
END:VTIMEZONE
END:VCALENDAR