BEGIN:VCALENDAR
VERSION:2.0
PRODID:-//wp-events-plugin.com//7.2.2.1//EN
BEGIN:VEVENT
UID:610@lovewokingham.co.uk
DTSTART;TZID=Europe/London:20241024T193000
DTEND;TZID=Europe/London:20241024T213000
DTSTAMP:20240605T111714Z
URL:https://www.lovewokingham.co.uk/events/film-io-capitano-15
SUMMARY:Film: Io Capitano ( 15 )
DESCRIPTION:\n\n\nWokingham Film Society presents: Io Capitano ( 15 )\n\nT
 wo Senegalese teenagers leave Dakar to travel to Europe where they believe
  opportunities await. On a journey neither could have imagined\, the boys 
 face the dangers and the beauty of the desert\, the shock of detention cen
 tres in Libya\, and the perils of the sea in their pursuit of a better lif
 e\, in a powerful\, epic story that offers a deeply human perspective on t
 he migrant crisis.\n\nDirected by two-time BAFTA-nominee Matteo Garrone (G
 omorrah\, Tale of Tales)\, IO CAPITANO has been nominated for Best Interna
 tional Feature at the Academy Awards\, and won the Silver Lion and Best Yo
 ung Actor Awards at Venice Film Festival.\n\nWolof and French with English
  subtitles\n\nTickets: £6.50 non members / £4 members\n\n\n\nFull detail
 s and booking: https://wokinghamfilmsociety.com/our-programme
ATTACH;FMTTYPE=image/jpeg:https://www.lovewokingham.co.uk/wp-content/uploa
 ds/2024/06/captino.jpeg
CATEGORIES:Mailchimp Events
LOCATION:The Whitty Theatre\, Luckley Road\, Wokingham\, Berkshire\, RG403E
 U\, United Kingdom
GEO:51.398838;-0.839821
X-APPLE-STRUCTURED-LOCATION;VALUE=URI;X-ADDRESS=Luckley Road\, Wokingham\, 
 Berkshire\, RG403EU\, United Kingdom;X-APPLE-RADIUS=100;X-TITLE=The Whitty
  Theatre:geo:51.398838,-0.839821
END:VEVENT
BEGIN:VTIMEZONE
TZID:Europe/London
X-LIC-LOCATION:Europe/London
BEGIN:DAYLIGHT
DTSTART:20240331T020000
TZOFFSETFROM:+0000
TZOFFSETTO:+0100
TZNAME:BST
END:DAYLIGHT
END:VTIMEZONE
END:VCALENDAR