BEGIN:VCALENDAR
VERSION:2.0
PRODID:-//wp-events-plugin.com//7.2.2.1//EN
BEGIN:VEVENT
UID:454@lovewokingham.co.uk
DTSTART;TZID=Europe/London:20240509T193000
DTEND;TZID=Europe/London:20240509T223000
DTSTAMP:20231227T133623Z
URL:https://www.lovewokingham.co.uk/events/film-lunana-a-yak-in-the-classr
 oom-pg
SUMMARY:Film: Lunana\; a Yak in the Classroom ( PG )
DESCRIPTION:Wokingham Film Society presents  Lunana\; a Yak in the Classroo
 m ( PG )\n\nA teacher\, in search of inspiration\, travels to the most rem
 ote school in the world\, where he ends up realizing how important his job
  is and appreciating the value of yak dung.\n\nBhutanese with English subt
 itles\n\n&nbsp\;\n\n&nbsp\;\n\n&nbsp\;
ATTACH;FMTTYPE=image/jpeg:https://www.lovewokingham.co.uk/wp-content/uploa
 ds/2023/12/81MpoikUwQL._AC_UF10001000_QL80_.jpg
CATEGORIES:Mailchimp Events
LOCATION:The Whitty Theatre\, Luckley Road\, Wokingham\, Berkshire\, RG403E
 U\, United Kingdom
GEO:51.398838;-0.839821
X-APPLE-STRUCTURED-LOCATION;VALUE=URI;X-ADDRESS=Luckley Road\, Wokingham\, 
 Berkshire\, RG403EU\, United Kingdom;X-APPLE-RADIUS=100;X-TITLE=The Whitty
  Theatre:geo:51.398838,-0.839821
END:VEVENT
BEGIN:VTIMEZONE
TZID:Europe/London
X-LIC-LOCATION:Europe/London
BEGIN:DAYLIGHT
DTSTART:20240331T020000
TZOFFSETFROM:+0000
TZOFFSETTO:+0100
TZNAME:BST
END:DAYLIGHT
END:VTIMEZONE
END:VCALENDAR