BEGIN:VCALENDAR
VERSION:2.0
PRODID:-//wp-events-plugin.com//7.2.2.1//EN
BEGIN:VEVENT
UID:775@lovewokingham.co.uk
DTSTART;TZID=Europe/London:20250508T193000
DTEND;TZID=Europe/London:20250508T213000
DTSTAMP:20250129T130036Z
URL:https://www.lovewokingham.co.uk/events/film-monster-15
SUMMARY:Film: Monster (15)
DESCRIPTION:\n\n\nWokingham Film Society presents: Monster (15)\n\nA mother
  demands answers from her son's teacher when her son begins acting strange
 ly.\nDiscovering that a teacher is responsible\, she storms into the schoo
 l demanding to know what's going on. But as the story unfolds through the 
 eyes of mother\, teacher and child\, the truth gradually emerges.\n\nTicke
 ts: £6.50 non members / £4 members\n\n\n\nFull details and booking: htt
 ps://wokinghamfilmsociety.com/our-programme
ATTACH;FMTTYPE=image/jpeg:https://www.lovewokingham.co.uk/wp-content/uploa
 ds/2025/01/Picture7.jpg
CATEGORIES:Mailchimp Events
LOCATION:The Whitty Theatre\, Luckley Road\, Wokingham\, Berkshire\, RG403E
 U\, United Kingdom
GEO:51.398838;-0.839821
X-APPLE-STRUCTURED-LOCATION;VALUE=URI;X-ADDRESS=Luckley Road\, Wokingham\, 
 Berkshire\, RG403EU\, United Kingdom;X-APPLE-RADIUS=100;X-TITLE=The Whitty
  Theatre:geo:51.398838,-0.839821
END:VEVENT
BEGIN:VTIMEZONE
TZID:Europe/London
X-LIC-LOCATION:Europe/London
BEGIN:DAYLIGHT
DTSTART:20250330T020000
TZOFFSETFROM:+0000
TZOFFSETTO:+0100
TZNAME:BST
END:DAYLIGHT
END:VTIMEZONE
END:VCALENDAR