BEGIN:VCALENDAR
VERSION:2.0
PRODID:-//wp-events-plugin.com//7.2.2.1//EN
BEGIN:VEVENT
UID:853@lovewokingham.co.uk
DTSTART;TZID=Europe/London:20251009T193000
DTEND;TZID=Europe/London:20251009T213000
DTSTAMP:20250508T082330Z
URL:https://www.lovewokingham.co.uk/events/film-mr-burton-12
SUMMARY:Film: Mr Burton (12)
DESCRIPTION:\n\n\nWokingham Film Society presents: Mr Burton (12)\n\nStars 
 Toby Jones and Lesley Manville. The story of wild schoolboy son of a boozy
  miner\, Rich Jenkins and the English teacher who recognised his talent\, 
 Philip Burton. A moving\, untold story of how Rich Jenkins became Richard 
 Burton the biggest star Wales has ever produced.\n\nTickets: £6.50 non me
 mbers / £4 members\n\n\n\nFull details and booking: https://wokinghamfil
 msociety.com/our-programme
ATTACH;FMTTYPE=image/jpeg:https://www.lovewokingham.co.uk/wp-content/uploa
 ds/2025/05/MV5BNGEyYzdhNTgtZjNiOS00Mjk2LWE4ZjYtZjM3ZDQ2Zjk0MWUyXkEyXkFqcGc
 @._V1_FMjpg_UX1000_.jpg
CATEGORIES:Mailchimp Events
LOCATION:The Whitty Theatre\, Luckley Road\, Wokingham\, Berkshire\, RG403E
 U\, United Kingdom
GEO:51.398838;-0.839821
X-APPLE-STRUCTURED-LOCATION;VALUE=URI;X-ADDRESS=Luckley Road\, Wokingham\, 
 Berkshire\, RG403EU\, United Kingdom;X-APPLE-RADIUS=100;X-TITLE=The Whitty
  Theatre:geo:51.398838,-0.839821
END:VEVENT
BEGIN:VTIMEZONE
TZID:Europe/London
X-LIC-LOCATION:Europe/London
BEGIN:DAYLIGHT
DTSTART:20250330T020000
TZOFFSETFROM:+0000
TZOFFSETTO:+0100
TZNAME:BST
END:DAYLIGHT
END:VTIMEZONE
END:VCALENDAR