BEGIN:VCALENDAR
VERSION:2.0
PRODID:-//wp-events-plugin.com//7.2.2.1//EN
BEGIN:VEVENT
UID:607@lovewokingham.co.uk
DTSTART;TZID=Europe/London:20240808T193000
DTEND;TZID=Europe/London:20240808T213000
DTSTAMP:20240801T101717Z
URL:https://www.lovewokingham.co.uk/events/film-one-life-12
SUMMARY:Film: One Life (12)
DESCRIPTION:\n\n\n\n\nWokingham Film Society presents: One Life (12)\n\nME
 MBERS CHOICE - ALL MEMBERS FREE\n\nThis poignant and emotional biographica
 l drama follows the life of humanitarian Nicholas Winton\, who helped hund
 reds of children escape German-occupied Czechoslovakia on the eve of World
  War II.\n\nStars Anthony Hopkins and Helena Bonham-Carter.\n\nTickets: £
 6.50 non members\, £4 members\nFull details and booking: https://wokingh
 amfilmsociety.com/our-programme\n\n\n\n\n
ATTACH;FMTTYPE=image/jpeg:https://www.lovewokingham.co.uk/wp-content/uploa
 ds/2024/06/One_Life_poster.jpg
CATEGORIES:Mailchimp Events
LOCATION:The Whitty Theatre\, Luckley Road\, Wokingham\, Berkshire\, RG403E
 U\, United Kingdom
GEO:51.398838;-0.839821
X-APPLE-STRUCTURED-LOCATION;VALUE=URI;X-ADDRESS=Luckley Road\, Wokingham\, 
 Berkshire\, RG403EU\, United Kingdom;X-APPLE-RADIUS=100;X-TITLE=The Whitty
  Theatre:geo:51.398838,-0.839821
END:VEVENT
BEGIN:VTIMEZONE
TZID:Europe/London
X-LIC-LOCATION:Europe/London
BEGIN:DAYLIGHT
DTSTART:20240331T020000
TZOFFSETFROM:+0000
TZOFFSETTO:+0100
TZNAME:BST
END:DAYLIGHT
END:VTIMEZONE
END:VCALENDAR