BEGIN:VCALENDAR
VERSION:2.0
PRODID:-//wp-events-plugin.com//7.2.2.1//EN
BEGIN:VEVENT
UID:452@lovewokingham.co.uk
DTSTART;TZID=Europe/London:20240411T193000
DTEND;TZID=Europe/London:20240411T223000
DTSTAMP:20231227T132432Z
URL:https://www.lovewokingham.co.uk/events/film-past-lives-12
SUMMARY:Film: Past Lives (12)
DESCRIPTION:Childhood friends reunited
ATTACH;FMTTYPE=image/jpeg:https://www.lovewokingham.co.uk/wp-content/uploa
 ds/2023/12/MV5BOTkzYmMxNTItZDAxNC00NGM0LWIyODMtMWYzMzRkMjIyMTE1XkEyXkFqcGd
 eQXVyMTAyMjQ3NzQ1._V1_.jpg
CATEGORIES:Mailchimp Events
LOCATION:The Whitty Theatre\, Luckley Road\, Wokingham\, Berkshire\, RG403E
 U\, United Kingdom
GEO:51.398838;-0.839821
X-APPLE-STRUCTURED-LOCATION;VALUE=URI;X-ADDRESS=Luckley Road\, Wokingham\, 
 Berkshire\, RG403EU\, United Kingdom;X-APPLE-RADIUS=100;X-TITLE=The Whitty
  Theatre:geo:51.398838,-0.839821
END:VEVENT
BEGIN:VTIMEZONE
TZID:Europe/London
X-LIC-LOCATION:Europe/London
BEGIN:DAYLIGHT
DTSTART:20240331T020000
TZOFFSETFROM:+0000
TZOFFSETTO:+0100
TZNAME:BST
END:DAYLIGHT
END:VTIMEZONE
END:VCALENDAR