BEGIN:VCALENDAR
VERSION:2.0
PRODID:-//wp-events-plugin.com//7.2.2.1//EN
BEGIN:VEVENT
UID:698@lovewokingham.co.uk
DTSTART;TZID=Europe/London:20250109T193000
DTEND;TZID=Europe/London:20250109T213000
DTSTAMP:20240926T102230Z
URL:https://www.lovewokingham.co.uk/events/film-radical-12a
SUMMARY:Film: Radical (12A)
DESCRIPTION:\n\n\nWokingham Film Society presents: Radical (12A)\n\nIn a Me
 xican border town plagued by neglect and corruption\, a frustrated teacher
  tries a radical new method to unleash the curiosity and potential of his 
 students... and maybe even their genius.\n\nBased on an incredible true st
 ory. Winner of the "Festival Favorite" award at the Sundance Film Festival
 .\n\nTickets: £6.50 non members / £4 members\n\n\n\nFull details and boo
 king: https://wokinghamfilmsociety.com/our-programme
ATTACH;FMTTYPE=image/jpeg:https://www.lovewokingham.co.uk/wp-content/uploa
 ds/2024/09/radical.jpg
CATEGORIES:Mailchimp Events
LOCATION:The Whitty Theatre\, Luckley Road\, Wokingham\, Berkshire\, RG403E
 U\, United Kingdom
GEO:51.398838;-0.839821
X-APPLE-STRUCTURED-LOCATION;VALUE=URI;X-ADDRESS=Luckley Road\, Wokingham\, 
 Berkshire\, RG403EU\, United Kingdom;X-APPLE-RADIUS=100;X-TITLE=The Whitty
  Theatre:geo:51.398838,-0.839821
END:VEVENT
BEGIN:VTIMEZONE
TZID:Europe/London
X-LIC-LOCATION:Europe/London
BEGIN:STANDARD
DTSTART:20241027T010000
TZOFFSETFROM:+0100
TZOFFSETTO:+0000
TZNAME:GMT
END:STANDARD
END:VTIMEZONE
END:VCALENDAR