BEGIN:VCALENDAR
VERSION:2.0
PRODID:-//wp-events-plugin.com//7.2.2.1//EN
BEGIN:VEVENT
UID:449@lovewokingham.co.uk
DTSTART;TZID=Europe/London:20240208T193000
DTEND;TZID=Europe/London:20240208T223000
DTSTAMP:20231227T131727Z
URL:https://www.lovewokingham.co.uk/events/film-rye-lane-15
SUMMARY:Film: Rye Lane (15)
DESCRIPTION:Romantic comedy drama
ATTACH;FMTTYPE=image/jpeg:https://www.lovewokingham.co.uk/wp-content/uploa
 ds/2023/12/MV5BMzczMjMyZjUtMGE4ZS00MDAwLTg5OGItY2ZhNDA3ZTA5ZTAzXkEyXkFqcGd
 eQXVyNDQxOTAyNA@@._V1_.jpg
CATEGORIES:Mailchimp Events
LOCATION:The Whitty Theatre\, Luckley Road\, Wokingham\, Berkshire\, RG403E
 U\, United Kingdom
GEO:51.398838;-0.839821
X-APPLE-STRUCTURED-LOCATION;VALUE=URI;X-ADDRESS=Luckley Road\, Wokingham\, 
 Berkshire\, RG403EU\, United Kingdom;X-APPLE-RADIUS=100;X-TITLE=The Whitty
  Theatre:geo:51.398838,-0.839821
END:VEVENT
BEGIN:VTIMEZONE
TZID:Europe/London
X-LIC-LOCATION:Europe/London
BEGIN:STANDARD
DTSTART:20231029T010000
TZOFFSETFROM:+0100
TZOFFSETTO:+0000
TZNAME:GMT
END:STANDARD
END:VTIMEZONE
END:VCALENDAR