BEGIN:VCALENDAR
VERSION:2.0
PRODID:-//wp-events-plugin.com//7.2.2.1//EN
BEGIN:VEVENT
UID:854@lovewokingham.co.uk
DTSTART;TZID=Europe/London:20251023T193000
DTEND;TZID=Europe/London:20251023T213000
DTSTAMP:20250508T082612Z
URL:https://www.lovewokingham.co.uk/events/film-sister-midnight-15
SUMMARY:Film: Sister Midnight (15)
DESCRIPTION:\n\n\nWokingham Film Society presents: Sister Midnight (15)\n\n
 Wild Indian fantasy comedy drama. Following an arranged marriage\, a frust
 rated and misanthropic newlywed discovers certain feral impulses that land
  her in unlikely situations.\n\nBAFTA nominated in outstanding newcomer ca
 tegory\n\nTickets: £6.50 non members / £4 members\n\n\n\nFull details an
 d booking: https://wokinghamfilmsociety.com/our-programme
ATTACH;FMTTYPE=image/jpeg:https://www.lovewokingham.co.uk/wp-content/uploa
 ds/2025/05/MV5BYjI3NzM5OTgtMTM1MC00NTQ3LTg3YzktMTMzNTk1ZGEwZjdlXkEyXkFqcGc
 @._V1_QL75_UX147_.jpg
CATEGORIES:Mailchimp Events
LOCATION:The Whitty Theatre\, Luckley Road\, Wokingham\, Berkshire\, RG403E
 U\, United Kingdom
GEO:51.398838;-0.839821
X-APPLE-STRUCTURED-LOCATION;VALUE=URI;X-ADDRESS=Luckley Road\, Wokingham\, 
 Berkshire\, RG403EU\, United Kingdom;X-APPLE-RADIUS=100;X-TITLE=The Whitty
  Theatre:geo:51.398838,-0.839821
END:VEVENT
BEGIN:VTIMEZONE
TZID:Europe/London
X-LIC-LOCATION:Europe/London
BEGIN:DAYLIGHT
DTSTART:20250330T020000
TZOFFSETFROM:+0000
TZOFFSETTO:+0100
TZNAME:BST
END:DAYLIGHT
END:VTIMEZONE
END:VCALENDAR