BEGIN:VCALENDAR
VERSION:2.0
PRODID:-//wp-events-plugin.com//7.2.2.1//EN
BEGIN:VEVENT
UID:951@lovewokingham.co.uk
DTSTART;TZID=Europe/London:20260122T193000
DTEND;TZID=Europe/London:20260122T213000
DTSTAMP:20251125T133135Z
URL:https://www.lovewokingham.co.uk/events/film-the-last-journey-pg
SUMMARY:Film: The Last Journey (PG)
DESCRIPTION:\n\n\nWokingham Film Society presents: Four Mothers (PG)\n\nRen
 owned Swedish TV-duo Filip and Fredrik embark on a trip to France\, aiming
  to rekindle the zest for life of Filip's father. Charming fly-on-the wall
  documentary. Swedish with English subtitles.\n\nTickets: £6.50 non membe
 rs / £4 members\n\n\n\nFull details and booking: https://wokinghamfilmso
 ciety.com/our-programme
ATTACH;FMTTYPE=image/jpeg:https://www.lovewokingham.co.uk/wp-content/uploa
 ds/2025/10/lastjourney.png
CATEGORIES:Mailchimp Events
LOCATION:The Whitty Theatre\, Luckley Road\, Wokingham\, Berkshire\, RG403E
 U\, United Kingdom
GEO:51.398838;-0.839821
X-APPLE-STRUCTURED-LOCATION;VALUE=URI;X-ADDRESS=Luckley Road\, Wokingham\, 
 Berkshire\, RG403EU\, United Kingdom;X-APPLE-RADIUS=100;X-TITLE=The Whitty
  Theatre:geo:51.398838,-0.839821
END:VEVENT
BEGIN:VTIMEZONE
TZID:Europe/London
X-LIC-LOCATION:Europe/London
BEGIN:STANDARD
DTSTART:20251026T010000
TZOFFSETFROM:+0100
TZOFFSETTO:+0000
TZNAME:GMT
END:STANDARD
END:VTIMEZONE
END:VCALENDAR