BEGIN:VCALENDAR
VERSION:2.0
PRODID:-//wp-events-plugin.com//7.2.2.1//EN
BEGIN:VEVENT
UID:771@lovewokingham.co.uk
DTSTART;TZID=Europe/London:20250306T193000
DTEND;TZID=Europe/London:20250306T213000
DTSTAMP:20250129T125409Z
URL:https://www.lovewokingham.co.uk/events/film-the-outrun-15
SUMMARY:Film: The Outrun (15)
DESCRIPTION:\n\n\nWokingham Film Society presents: The Outrun (15)\n\n\nSao
 irse Ronan stars as Rona\, who\, fresh out of rehab\, returns to the Orkne
 y Islands\; a place both wild and beautiful right off the Scottish coast. 
 After more than a decade of living life on the edge in London\, where she 
 both found and lost love\, Rona – now 30 – attempts to come to terms w
 ith her troubled past. As she reconnects with the dramatic landscape where
  she grew up\, memories of her traumatic childhood merge with more recent 
 challenging events that have set her on the path to recovery.\n\n\nTickets
 : £6.50 non members / £4 members\n\n\n\nFull details and booking: https
 ://wokinghamfilmsociety.com/our-programme
ATTACH;FMTTYPE=image/jpeg:https://www.lovewokingham.co.uk/wp-content/uploa
 ds/2025/01/Picture1.jpg
CATEGORIES:Mailchimp Events
LOCATION:The Whitty Theatre\, Luckley Road\, Wokingham\, Berkshire\, RG403E
 U\, United Kingdom
GEO:51.398838;-0.839821
X-APPLE-STRUCTURED-LOCATION;VALUE=URI;X-ADDRESS=Luckley Road\, Wokingham\, 
 Berkshire\, RG403EU\, United Kingdom;X-APPLE-RADIUS=100;X-TITLE=The Whitty
  Theatre:geo:51.398838,-0.839821
END:VEVENT
BEGIN:VTIMEZONE
TZID:Europe/London
X-LIC-LOCATION:Europe/London
BEGIN:STANDARD
DTSTART:20241027T010000
TZOFFSETFROM:+0100
TZOFFSETTO:+0000
TZNAME:GMT
END:STANDARD
END:VTIMEZONE
END:VCALENDAR