BEGIN:VCALENDAR
VERSION:2.0
PRODID:-//wp-events-plugin.com//7.2.2.1//EN
BEGIN:VEVENT
UID:608@lovewokingham.co.uk
DTSTART;TZID=Europe/London:20240905T193000
DTEND;TZID=Europe/London:20240905T213000
DTSTAMP:20240801T103546Z
URL:https://www.lovewokingham.co.uk/events/film-the-peasants-15
SUMMARY:Film: The Peasants (15)
DESCRIPTION:Wokingham Film Society presents: The Peasants ( 15 )\n\nA youn
 g woman is determined to forge her own path within the confines of a late 
 19th century Polish village – a hotbed of gossip and on-going feuds\, he
 ld together\, rich and poor\, by pride in their land\, adherence to colour
 ful traditions and deep-rooted patriarchy. When she finds herself caught b
 etween the conflicting desires of the village’s richest farmer\, his eld
 est son\, and other leading men of the community\, her resistance puts her
  on a tragic collision course with the community around her.\n\nAn excepti
 onal animation from the makers of Loving Vincent.\n\nPolish with English s
 ubtitles\n\nTickets: £6.50 non members\, £4 members\nFull details and bo
 oking: https://wokinghamfilmsociety.com/our-programme
ATTACH;FMTTYPE=image/jpeg:https://www.lovewokingham.co.uk/wp-content/uploa
 ds/2024/06/the-peasants.jpeg
CATEGORIES:Mailchimp Events
LOCATION:The Whitty Theatre\, Luckley Road\, Wokingham\, Berkshire\, RG403E
 U\, United Kingdom
GEO:51.398838;-0.839821
X-APPLE-STRUCTURED-LOCATION;VALUE=URI;X-ADDRESS=Luckley Road\, Wokingham\, 
 Berkshire\, RG403EU\, United Kingdom;X-APPLE-RADIUS=100;X-TITLE=The Whitty
  Theatre:geo:51.398838,-0.839821
END:VEVENT
BEGIN:VTIMEZONE
TZID:Europe/London
X-LIC-LOCATION:Europe/London
BEGIN:DAYLIGHT
DTSTART:20240331T020000
TZOFFSETFROM:+0000
TZOFFSETTO:+0100
TZNAME:BST
END:DAYLIGHT
END:VTIMEZONE
END:VCALENDAR