BEGIN:VCALENDAR
VERSION:2.0
PRODID:-//wp-events-plugin.com//7.2.2.1//EN
BEGIN:VEVENT
UID:949@lovewokingham.co.uk
DTSTART;TZID=Europe/London:20251204T193000
DTEND;TZID=Europe/London:20251204T213000
DTSTAMP:20251008T160748Z
URL:https://www.lovewokingham.co.uk/events/film-the-penguin-lessons-12
SUMMARY:Film: The Penguin Lessons (12)
DESCRIPTION:\n\n\nWokingham Film Society presents: The Penguin Lessons (12)
 \n\nStars Steve Coogan and Jonathon Price. A disillusioned Englishman who 
 goes to work in a school in a divided Argentina in 1976 finds his life tra
 nsformed when he rescues an orphaned penguin from the beach.\n\nFrench wit
 h English subtitles\n\nTickets: £6.50 non members / £4 members\n\n\n\nFu
 ll details and booking: https://wokinghamfilmsociety.com/our-programme
ATTACH;FMTTYPE=image/jpeg:https://www.lovewokingham.co.uk/wp-content/uploa
 ds/2025/10/MV5BYTU1MmE0NDEtNjM0OC00MjExLThmNjUtNTE4ZGU0NjRmY2NlXkEyXkFqcGc
 @._V1_FMjpg_UX1000_.jpg
CATEGORIES:Mailchimp Events
LOCATION:The Whitty Theatre\, Luckley Road\, Wokingham\, Berkshire\, RG403E
 U\, United Kingdom
GEO:51.398838;-0.839821
X-APPLE-STRUCTURED-LOCATION;VALUE=URI;X-ADDRESS=Luckley Road\, Wokingham\, 
 Berkshire\, RG403EU\, United Kingdom;X-APPLE-RADIUS=100;X-TITLE=The Whitty
  Theatre:geo:51.398838,-0.839821
END:VEVENT
BEGIN:VTIMEZONE
TZID:Europe/London
X-LIC-LOCATION:Europe/London
BEGIN:STANDARD
DTSTART:20251026T010000
TZOFFSETFROM:+0100
TZOFFSETTO:+0000
TZNAME:GMT
END:STANDARD
END:VTIMEZONE
END:VCALENDAR