BEGIN:VCALENDAR
VERSION:2.0
PRODID:-//wp-events-plugin.com//7.2.2.1//EN
BEGIN:VEVENT
UID:605@lovewokingham.co.uk
DTSTART;TZID=Europe/London:20240606T193000
DTEND;TZID=Europe/London:20240606T213000
DTSTAMP:20240605T105340Z
URL:https://www.lovewokingham.co.uk/events/film-the-promised-land
SUMMARY:Film: The Promised Land
DESCRIPTION:\nWokingham Film Society presents: The Promised Land (15)\nA re
 tired arrives in 1755 on the barren Jutland heath with a single goal: to f
 ollow the king's call to cultivate the land and thereby achieve wealth and
  honour himself. But he quickly makes an enemy of a merciless local landow
 ner\, who believes that the heath belongs to him and not the king. Stars M
 ads Mikkelsen.\n\n\nDanish with English subtitles\n\n\nCelebrating their 1
 50th screening with a prosecco reception prior to start.\n\nTickets: £6.5
 0 non members / £4 members\nFull details and booking: https://wokinghamf
 ilmsociety.com/our-programme
ATTACH;FMTTYPE=image/jpeg:https://www.lovewokingham.co.uk/wp-content/uploa
 ds/2024/06/thumbnail_4514_001-scaled.jpg
CATEGORIES:Mailchimp Events
LOCATION:The Whitty Theatre\, Luckley Road\, Wokingham\, Berkshire\, RG403E
 U\, United Kingdom
GEO:51.398838;-0.839821
X-APPLE-STRUCTURED-LOCATION;VALUE=URI;X-ADDRESS=Luckley Road\, Wokingham\, 
 Berkshire\, RG403EU\, United Kingdom;X-APPLE-RADIUS=100;X-TITLE=The Whitty
  Theatre:geo:51.398838,-0.839821
END:VEVENT
BEGIN:VTIMEZONE
TZID:Europe/London
X-LIC-LOCATION:Europe/London
BEGIN:DAYLIGHT
DTSTART:20240331T020000
TZOFFSETFROM:+0000
TZOFFSETTO:+0100
TZNAME:BST
END:DAYLIGHT
END:VTIMEZONE
END:VCALENDAR