BEGIN:VCALENDAR
VERSION:2.0
PRODID:-//wp-events-plugin.com//7.2.2.1//EN
BEGIN:VEVENT
UID:850@lovewokingham.co.uk
DTSTART;TZID=Europe/London:20250710T193000
DTEND;TZID=Europe/London:20250710T213000
DTSTAMP:20250508T081531Z
URL:https://www.lovewokingham.co.uk/events/film-touch-15
SUMMARY:Film: Touch (15)
DESCRIPTION:\n\n\nWokingham Film Society presents: Touch (15)\n\nA romantic
  story spanning several decades and continents. Touch follows one Icelandi
 c man's emotional journey to find his first love - who disappeared 50 year
 s ago - before his time runs out.\n\nTickets: £6.50 non members / £4 mem
 bers\n\n\n\nFull details and booking: https://wokinghamfilmsociety.com/ou
 r-programme
ATTACH;FMTTYPE=image/jpeg:https://www.lovewokingham.co.uk/wp-content/uploa
 ds/2025/05/img-touch-3.jpg
CATEGORIES:Mailchimp Events
LOCATION:The Whitty Theatre\, Luckley Road\, Wokingham\, Berkshire\, RG403E
 U\, United Kingdom
GEO:51.398838;-0.839821
X-APPLE-STRUCTURED-LOCATION;VALUE=URI;X-ADDRESS=Luckley Road\, Wokingham\, 
 Berkshire\, RG403EU\, United Kingdom;X-APPLE-RADIUS=100;X-TITLE=The Whitty
  Theatre:geo:51.398838,-0.839821
END:VEVENT
BEGIN:VTIMEZONE
TZID:Europe/London
X-LIC-LOCATION:Europe/London
BEGIN:DAYLIGHT
DTSTART:20250330T020000
TZOFFSETFROM:+0000
TZOFFSETTO:+0100
TZNAME:BST
END:DAYLIGHT
END:VTIMEZONE
END:VCALENDAR