BEGIN:VCALENDAR
VERSION:2.0
PRODID:-//wp-events-plugin.com//7.2.2.1//EN
BEGIN:VEVENT
UID:952@lovewokingham.co.uk
DTSTART;TZID=Europe/London:20260305T193000
DTEND;TZID=Europe/London:20260305T213000
DTSTAMP:20260226T153714Z
URL:https://www.lovewokingham.co.uk/events/film-we-live-in-time-15
SUMMARY:Film: Nouvelle Vague (12a)
DESCRIPTION:\n\n\nWokingham Film Society presents: Nouvelle Vague (12a)\n\n
 A light-hearted and affectionate look behind the scenes of the filming of 
 Jean-Luc Godard's Breathless (1960)\, a landmark of the French New Wave fi
 lm movement\, told in the style and spirit of Godard\n\nDirected by Richar
 d Linklater ( Boyhood\, Before Sunrise/Sunset/Midnight)\n\nFrench - Englis
 h subtitles\n\n\n\nFull details and booking: https://wokinghamfilmsociety
 .com/our-programme
ATTACH;FMTTYPE=image/jpeg:https://www.lovewokingham.co.uk/wp-content/uploa
 ds/2025/10/634890417_1409946111164400_5803222417235260501_n.jpg
CATEGORIES:Mailchimp Events
LOCATION:The Whitty Theatre\, Luckley Road\, Wokingham\, Berkshire\, RG403E
 U\, United Kingdom
GEO:51.398838;-0.839821
X-APPLE-STRUCTURED-LOCATION;VALUE=URI;X-ADDRESS=Luckley Road\, Wokingham\, 
 Berkshire\, RG403EU\, United Kingdom;X-APPLE-RADIUS=100;X-TITLE=The Whitty
  Theatre:geo:51.398838,-0.839821
END:VEVENT
BEGIN:VTIMEZONE
TZID:Europe/London
X-LIC-LOCATION:Europe/London
BEGIN:STANDARD
DTSTART:20251026T010000
TZOFFSETFROM:+0100
TZOFFSETTO:+0000
TZNAME:GMT
END:STANDARD
END:VTIMEZONE
END:VCALENDAR