BEGIN:VCALENDAR
VERSION:2.0
PRODID:-//wp-events-plugin.com//7.2.2.1//EN
BEGIN:VEVENT
UID:697@lovewokingham.co.uk
DTSTART;TZID=Europe/London:20241121T193000
DTEND;TZID=Europe/London:20241121T213000
DTSTAMP:20240926T101806Z
URL:https://www.lovewokingham.co.uk/events/film-zone-of-interest-12a
SUMMARY:Film: Zone of Interest (12A)
DESCRIPTION:\n\n\nWokingham Film Society presents: Zone of Interest (12A)\n
 \nThe commandant of Auschwitz\, Rudolf Höss\, and his wife Hedwig\, striv
 e to build a dream life for their family in a house and garden next to the
  camp.\n\nWritten and directed by Jonathon Glazer (Under the Skin\, Sexy B
 east). Oscar nominated for direction and screenplay.\n\nTickets: £6.50 no
 n members / £4 members\n\n\n\nFull details and booking: https://wokingha
 mfilmsociety.com/our-programme
ATTACH;FMTTYPE=image/jpeg:https://www.lovewokingham.co.uk/wp-content/uploa
 ds/2024/09/The-Zone-of-Interest-1-1024x705-1.jpg
CATEGORIES:Mailchimp Events
LOCATION:The Whitty Theatre\, Luckley Road\, Wokingham\, Berkshire\, RG403E
 U\, United Kingdom
GEO:51.398838;-0.839821
X-APPLE-STRUCTURED-LOCATION;VALUE=URI;X-ADDRESS=Luckley Road\, Wokingham\, 
 Berkshire\, RG403EU\, United Kingdom;X-APPLE-RADIUS=100;X-TITLE=The Whitty
  Theatre:geo:51.398838,-0.839821
END:VEVENT
BEGIN:VTIMEZONE
TZID:Europe/London
X-LIC-LOCATION:Europe/London
BEGIN:STANDARD
DTSTART:20241027T010000
TZOFFSETFROM:+0100
TZOFFSETTO:+0000
TZNAME:GMT
END:STANDARD
END:VTIMEZONE
END:VCALENDAR