BEGIN:VCALENDAR
VERSION:2.0
PRODID:-//wp-events-plugin.com//7.2.2.1//EN
BEGIN:VEVENT
UID:500@lovewokingham.co.uk
DTSTART;TZID=Europe/London:20240211T090000
DTEND;TZID=Europe/London:20240211T140000
DTSTAMP:20240130T102853Z
URL:https://www.lovewokingham.co.uk/events/fishing-car-boot-sale-new-used
SUMMARY:Fishing Car Boot Sale New & Used
DESCRIPTION:New &amp\; Used Fishing Car Boot Sale. All welcome\nPlease book
  to secure your slot 07985 410 020 . £5 deposit required for stall holder
 s\nCost £5.00 a car or small van per pitch - please bring your own set up
  equipment\n£1.00 entry fee per person for the public\nSet up time 8.00am
 \, open to public from 9am\nCash only\nFood &amp\; Refreshments available 
 on the day\nRaffle prizes up to £1\,000 fishing related plus a tombola\nA
 ll proceeds going to Holme Grange academy\n\nPost Code RG40 3BF
ATTACH;FMTTYPE=image/jpeg:https://www.lovewokingham.co.uk/wp-content/uploa
 ds/2024/01/417545071_1434042577296329_7461206142307224075_n.jpg
CATEGORIES:Mailchimp Events
LOCATION:Holme Grange Fishery\, Redlake Lane\, Wokingham\, RG40 3BF\, Unite
 d Kingdom
X-APPLE-STRUCTURED-LOCATION;VALUE=URI;X-ADDRESS=Redlake Lane\, Wokingham\, 
 RG40 3BF\, United Kingdom;X-APPLE-RADIUS=100;X-TITLE=Holme Grange Fishery:
 geo:0,0
END:VEVENT
BEGIN:VTIMEZONE
TZID:Europe/London
X-LIC-LOCATION:Europe/London
BEGIN:STANDARD
DTSTART:20231029T010000
TZOFFSETFROM:+0100
TZOFFSETTO:+0000
TZNAME:GMT
END:STANDARD
END:VTIMEZONE
END:VCALENDAR