BEGIN:VCALENDAR
VERSION:2.0
PRODID:-//wp-events-plugin.com//7.2.2.1//EN
BEGIN:VEVENT
UID:597@lovewokingham.co.uk
DTSTART;TZID=Europe/London:20240908T110000
DTEND;TZID=Europe/London:20240908T160000
DTSTAMP:20240529T112302Z
URL:https://www.lovewokingham.co.uk/events/friends-of-speedway-18th-reunio
 n
SUMMARY:Friends of Speedway 18th Reunion
DESCRIPTION:Friends of Speedway proudly present our 18th California-in-Engl
 and Speedway Reunion!\n\nMark your calendars for the 8th of September 2024
 \, as we gather once again to celebrate the thrilling world of British spe
 edway history!\n\nAnd here's the best part – we encourage you to bring a
 long any speedway memorabilia you may have! Whether it's vintage programs\
 , rare photographs\, or cherished souvenirs\, share your treasures with fe
 llow speedway enthusiasts. Let's relive the memories together!\n\nDon't mi
 ss out on this electrifying gathering of speedway enthusiasts\, where pass
 ion and adrenaline run high! Join us on the 8th of September 2024 and let'
 s celebrate the legacy of British speedway together!
ATTACH;FMTTYPE=image/jpeg:https://www.lovewokingham.co.uk/wp-content/uploa
 ds/2024/05/speedway.jpeg
CATEGORIES:Mailchimp Events
LOCATION:California Country Park\, Nine Mile Ride\, Finchampstead\, Wokingh
 am\, Berkshire\, RG40 4HU\, United Kingdom
GEO:51.382704;-0.809688
X-APPLE-STRUCTURED-LOCATION;VALUE=URI;X-ADDRESS=Nine Mile Ride\, Finchampst
 ead\, Wokingham\, Berkshire\, RG40 4HU\, United Kingdom;X-APPLE-RADIUS=100
 ;X-TITLE=California Country Park:geo:51.382704,-0.809688
END:VEVENT
BEGIN:VTIMEZONE
TZID:Europe/London
X-LIC-LOCATION:Europe/London
BEGIN:DAYLIGHT
DTSTART:20240331T020000
TZOFFSETFROM:+0000
TZOFFSETTO:+0100
TZNAME:BST
END:DAYLIGHT
END:VTIMEZONE
END:VCALENDAR