BEGIN:VCALENDAR
VERSION:2.0
PRODID:-//wp-events-plugin.com//7.2.2.1//EN
BEGIN:VEVENT
UID:335@lovewokingham.co.uk
DTSTART;TZID=Europe/London:20230812T173000
DTEND;TZID=Europe/London:20230812T230000
DTSTAMP:20230730T145912Z
URL:https://www.lovewokingham.co.uk/events/garden-rock-festival-2
SUMMARY:Garden Rock Festival
DESCRIPTION:3 great acts to look forward to.
ATTACH;FMTTYPE=image/jpeg:https://www.lovewokingham.co.uk/wp-content/uploa
 ds/2023/07/beegees.webp
CATEGORIES:Mailchimp Events
LOCATION:The White Horse Pub\, Easthampstead Road\, Wokingham\, United King
 dom
X-APPLE-STRUCTURED-LOCATION;VALUE=URI;X-ADDRESS=Easthampstead Road\, Woking
 ham\, United Kingdom;X-APPLE-RADIUS=100;X-TITLE=The White Horse Pub:geo:0,
 0
END:VEVENT
BEGIN:VTIMEZONE
TZID:Europe/London
X-LIC-LOCATION:Europe/London
BEGIN:DAYLIGHT
DTSTART:20230326T020000
TZOFFSETFROM:+0000
TZOFFSETTO:+0100
TZNAME:BST
END:DAYLIGHT
END:VTIMEZONE
END:VCALENDAR