BEGIN:VCALENDAR
VERSION:2.0
PRODID:-//wp-events-plugin.com//7.2.2.1//EN
BEGIN:VEVENT
UID:100@lovewokingham.co.uk
DTSTART;TZID=Europe/London:20211203T200000
DTEND;TZID=Europe/London:20211203T224500
DTSTAMP:20211104T164655Z
URL:https://www.lovewokingham.co.uk/events/geno-washington-and-the-yo-yos-
 2
SUMMARY:Geno Washington and The Yo Yo's
DESCRIPTION:This will be a barnstorming live show! Support act The TR5's
ATTACH;FMTTYPE=image/jpeg:https://www.lovewokingham.co.uk/wp-content/uploa
 ds/2021/11/gino.jpg
CATEGORIES:Mailchimp Events
LOCATION:Emmbrook Sports and Social Club\, Lowther Road\, Wokingham\, Berks
 hire\, RG411JB\, United Kingdom
GEO:51.4233;-0.857801
X-APPLE-STRUCTURED-LOCATION;VALUE=URI;X-ADDRESS=Lowther Road\, Wokingham\, 
 Berkshire\, RG411JB\, United Kingdom;X-APPLE-RADIUS=100;X-TITLE=Emmbrook S
 ports and Social Club:geo:51.4233,-0.857801
END:VEVENT
BEGIN:VTIMEZONE
TZID:Europe/London
X-LIC-LOCATION:Europe/London
BEGIN:STANDARD
DTSTART:20211031T010000
TZOFFSETFROM:+0100
TZOFFSETTO:+0000
TZNAME:GMT
END:STANDARD
END:VTIMEZONE
END:VCALENDAR