BEGIN:VCALENDAR
VERSION:2.0
PRODID:-//wp-events-plugin.com//7.2.2.1//EN
BEGIN:VEVENT
UID:155@lovewokingham.co.uk
DTSTART;TZID=Europe/London:20221210T193000
DTEND;TZID=Europe/London:20221210T210000
DTSTAMP:20221130T123628Z
URL:https://www.lovewokingham.co.uk/events/gloria-sing-healthy-choirs
SUMMARY:Gloria - Sing Healthy Choirs
DESCRIPTION:Seasonal classics and audience carols
ATTACH;FMTTYPE=image/jpeg:https://www.lovewokingham.co.uk/wp-content/uploa
 ds/2022/11/314397698_5469946813058914_7687632824554356328_n.jpg
CATEGORIES:Mailchimp Events
LOCATION:Wokingham Baptist Church\, Milton Road\, Wokingham\, Berkshire\, R
 G40 1DE\, United Kingdom
X-APPLE-STRUCTURED-LOCATION;VALUE=URI;X-ADDRESS=Milton Road\, Wokingham\, B
 erkshire\, RG40 1DE\, United Kingdom;X-APPLE-RADIUS=100;X-TITLE=Wokingham 
 Baptist Church:geo:0,0
END:VEVENT
BEGIN:VTIMEZONE
TZID:Europe/London
X-LIC-LOCATION:Europe/London
BEGIN:STANDARD
DTSTART:20221030T010000
TZOFFSETFROM:+0100
TZOFFSETTO:+0000
TZNAME:GMT
END:STANDARD
END:VTIMEZONE
END:VCALENDAR