BEGIN:VCALENDAR
VERSION:2.0
PRODID:-//wp-events-plugin.com//7.2.2.1//EN
BEGIN:VEVENT
UID:154@lovewokingham.co.uk
DTSTART;TZID=Europe/London:20221202T200000
DTEND;TZID=Europe/London:20221202T224500
DTSTAMP:20221130T122510Z
URL:https://www.lovewokingham.co.uk/events/gordon-giltrap-in-concert-2
SUMMARY:Gordon Giltrap in Concert
DESCRIPTION:One of the UK’s most important and influential guitarists
ATTACH;FMTTYPE=image/jpeg:https://www.lovewokingham.co.uk/wp-content/uploa
 ds/2022/11/286971970_432931118834834_3351036891389976021_n.jpg
CATEGORIES:Mailchimp Events
LOCATION:Emmbrook Sports and Social Club\, Lowther Road\, Wokingham\, Berks
 hire\, RG411JB\, United Kingdom
GEO:51.4233;-0.857801
X-APPLE-STRUCTURED-LOCATION;VALUE=URI;X-ADDRESS=Lowther Road\, Wokingham\, 
 Berkshire\, RG411JB\, United Kingdom;X-APPLE-RADIUS=100;X-TITLE=Emmbrook S
 ports and Social Club:geo:51.4233,-0.857801
END:VEVENT
BEGIN:VTIMEZONE
TZID:Europe/London
X-LIC-LOCATION:Europe/London
BEGIN:STANDARD
DTSTART:20221030T010000
TZOFFSETFROM:+0100
TZOFFSETTO:+0000
TZNAME:GMT
END:STANDARD
END:VTIMEZONE
END:VCALENDAR