BEGIN:VCALENDAR
VERSION:2.0
PRODID:-//wp-events-plugin.com//7.2.2.1//EN
BEGIN:VEVENT
UID:729@lovewokingham.co.uk
DTSTART;TZID=Europe/London:20241220T203000
DTEND;TZID=Europe/London:20241220T230000
DTSTAMP:20241114T101103Z
URL:https://www.lovewokingham.co.uk/events/graffiti-child-live-2
SUMMARY:Graffiti Child Live!
DESCRIPTION:A pre-Christmas boogie to classic 70s funk and disco..!!!!
ATTACH;FMTTYPE=image/jpeg:https://www.lovewokingham.co.uk/wp-content/uploa
 ds/2024/11/graffiti.jpg
CATEGORIES:Mailchimp Events
LOCATION:Broad Street Tavern\, 29 Broad Street\, Wokingham\, Berkshire\, RG
 40 1AU\, Berkshire\, United Kingdom
X-APPLE-STRUCTURED-LOCATION;VALUE=URI;X-ADDRESS=29 Broad Street\, Wokingham
 \, Berkshire\, RG40 1AU\, Berkshire\, United Kingdom;X-APPLE-RADIUS=100;X-
 TITLE=Broad Street Tavern:geo:0,0
END:VEVENT
BEGIN:VTIMEZONE
TZID:Europe/London
X-LIC-LOCATION:Europe/London
BEGIN:STANDARD
DTSTART:20241027T010000
TZOFFSETFROM:+0100
TZOFFSETTO:+0000
TZNAME:GMT
END:STANDARD
END:VTIMEZONE
END:VCALENDAR