BEGIN:VCALENDAR
VERSION:2.0
PRODID:-//wp-events-plugin.com//7.2.2.1//EN
BEGIN:VEVENT
UID:901@lovewokingham.co.uk
DTSTART;TZID=Europe/London:20250920T110000
DTEND;TZID=Europe/London:20250920T150000
DTSTAMP:20250831T123237Z
URL:https://www.lovewokingham.co.uk/events/heritage-open-day-3
SUMMARY:Heritage Open Day
DESCRIPTION:Heritage Open Day will tell you\, our Time-Travellers\, the sto
 ry of Victorian times here in Wokingham. As you travel back in time\, imme
 rse yourself in Victorian culture\, industry\, activities and games… bef
 ore returning to the present where you’ll get an opportunity to design a
 nd build the town hall of the future.\n\nCome join in the fun with activit
 ies for both adults and children.\n\nFree\n\nMore info https://www.woking
 ham-tc.gov.uk/council_events/heritage-open-day/
ATTACH;FMTTYPE=image/jpeg:https://www.lovewokingham.co.uk/wp-content/uploa
 ds/2025/08/heritage-website-thumbnail-1.png
CATEGORIES:Mailchimp Events
LOCATION:Wokingham Town Hall\, Market Place\, Wokingham\, Berkshire\, RG40 
 1AS\, United Kingdom
X-APPLE-STRUCTURED-LOCATION;VALUE=URI;X-ADDRESS=Market Place\, Wokingham\, 
 Berkshire\, RG40 1AS\, United Kingdom;X-APPLE-RADIUS=100;X-TITLE=Wokingham
  Town Hall:geo:0,0
END:VEVENT
BEGIN:VTIMEZONE
TZID:Europe/London
X-LIC-LOCATION:Europe/London
BEGIN:DAYLIGHT
DTSTART:20250330T020000
TZOFFSETFROM:+0000
TZOFFSETTO:+0100
TZNAME:BST
END:DAYLIGHT
END:VTIMEZONE
END:VCALENDAR