BEGIN:VCALENDAR
VERSION:2.0
PRODID:-//wp-events-plugin.com//7.2.2.1//EN
BEGIN:VEVENT
UID:1048@lovewokingham.co.uk
DTSTART;TZID=Europe/London:20260627T100000
DTEND;TZID=Europe/London:20260628T160000
DTSTAMP:20260421T082816Z
URL:https://www.lovewokingham.co.uk/events/hurst-show-3
SUMMARY:Hurst Show
DESCRIPTION:The much-loved Hurst Show and Country Fayre returns for 2026\, 
 celebrating over 45 years of community spirit\, family fun and countryside
  entertainment. This non-commercial event offers a fantastic day out for a
 ll ages\, with proceeds supporting local charities.\n\nNew for this year i
 s the Hurst Show Discovery Trail\, inviting children and families to explo
 re the show while collecting hidden letters. School Field hosts the arena 
 with hobbyhorse jumping\, dance displays\, tug-of-war and dog agility. Enj
 oy BMX displays on Saturday and a climbing tower on Sunday\, alongside arc
 hery\, petting animals\, bouncy castles and more.\n\nLive music\, craft st
 alls\, the Art Show\, classic vehicles and great food complete a fun-fille
 d weekend.\n\nTickets available online: £6 for adults per day or £10 for
  the weekend\, free for U16s and carers\, free parking.\n\nTimes: Saturday
  27th June - 10am to 5pm / Sunday 28th June - 10am to 4pm\n\nTickets and i
 nfo: http://www.hurstshow.uk
ATTACH;FMTTYPE=image/jpeg:https://www.lovewokingham.co.uk/wp-content/uploa
 ds/2026/04/05cb6a0f-c628-4aeb-b4d4-bffdb291e8fd.png
CATEGORIES:Mailchimp Events
LOCATION:Hurst Show\, School Road\, Hurst\, Berkshire\, United Kingdom
GEO:51.455177;-0.854455
X-APPLE-STRUCTURED-LOCATION;VALUE=URI;X-ADDRESS=School Road\, Hurst\, Berks
 hire\, United Kingdom;X-APPLE-RADIUS=100;X-TITLE=Hurst Show:geo:51.455177,
 -0.854455
END:VEVENT
BEGIN:VTIMEZONE
TZID:Europe/London
X-LIC-LOCATION:Europe/London
BEGIN:DAYLIGHT
DTSTART:20260329T020000
TZOFFSETFROM:+0000
TZOFFSETTO:+0100
TZNAME:BST
END:DAYLIGHT
END:VTIMEZONE
END:VCALENDAR