BEGIN:VCALENDAR
VERSION:2.0
PRODID:-//wp-events-plugin.com//7.2.2.1//EN
BEGIN:VEVENT
UID:817@lovewokingham.co.uk
DTSTART;TZID=Europe/London:20250628T100000
DTEND;TZID=Europe/London:20250629T160000
DTSTAMP:20250327T100345Z
URL:https://www.lovewokingham.co.uk/events/hurst-show-and-country-fayre-2
SUMMARY:Hurst Show and Country Fayre
DESCRIPTION:With over 40 years of tradition\, this non-commercial event off
 ers unbeatable value for money for all the family.\nIt's all about communi
 ty spirit\, with all proceeds going to support local charities and good ca
 uses.\n\nNEW for 2025!\nMobile climbing tower\, BMX bike displays\, Childr
 en's crafts and soft play\, With more surprises soon to be announced!\n\nP
 lus: hobbyhorse jumping\, fun dog show\, craft stalls\, animal petting\, c
 lassic vehicles show\, live music and arena events\, bar and BBQ\n\nAdult:
  £5 for 1 day or £7.50 for the weekend\n\nSeniors aged 65 and over: £2.
 50 for 1 day or £4 for the weekend\n\nUnder 16s and Carers: Free\n\nFree 
 parking included in ticket price - please follow signs within Hurst villag
 e to the parking field.\n\nTickets: https://www.tickettailor.com/events/h
 urstshowandcountryfayre
ATTACH;FMTTYPE=image/jpeg:https://www.lovewokingham.co.uk/wp-content/uploa
 ds/2025/03/480213085_1193039369491694_2266946660587455752_n.jpg
CATEGORIES:Mailchimp Events
LOCATION:Hurst Show\, School Road\, Hurst\, Berkshire\, United Kingdom
GEO:51.455177;-0.854455
X-APPLE-STRUCTURED-LOCATION;VALUE=URI;X-ADDRESS=School Road\, Hurst\, Berks
 hire\, United Kingdom;X-APPLE-RADIUS=100;X-TITLE=Hurst Show:geo:51.455177,
 -0.854455
END:VEVENT
BEGIN:VTIMEZONE
TZID:Europe/London
X-LIC-LOCATION:Europe/London
BEGIN:DAYLIGHT
DTSTART:20250330T020000
TZOFFSETFROM:+0000
TZOFFSETTO:+0100
TZNAME:BST
END:DAYLIGHT
END:VTIMEZONE
END:VCALENDAR