BEGIN:VCALENDAR
VERSION:2.0
PRODID:-//wp-events-plugin.com//7.2.2.1//EN
BEGIN:VEVENT
UID:121@lovewokingham.co.uk
DTSTART;TZID=Europe/London:20220625T100000
DTEND;TZID=Europe/London:20220626T160000
DTSTAMP:20220525T131650Z
URL:https://www.lovewokingham.co.uk/events/hurst-show
SUMMARY:Hurst Show
DESCRIPTION:Fully of family friendly activities & exhibits
ATTACH;FMTTYPE=image/jpeg:https://www.lovewokingham.co.uk/wp-content/uploa
 ds/2022/05/274538858_10159124507222773_5160805877838173841_n.jpg
LOCATION:Field\,  School Road\, \, Hurst\, RG10 0DR\, United Kingdom
X-APPLE-STRUCTURED-LOCATION;VALUE=URI;X-ADDRESS= School Road\, \, Hurst\, R
 G10 0DR\, United Kingdom;X-APPLE-RADIUS=100;X-TITLE=Field:geo:0,0
END:VEVENT
BEGIN:VTIMEZONE
TZID:Europe/London
X-LIC-LOCATION:Europe/London
BEGIN:DAYLIGHT
DTSTART:20220327T020000
TZOFFSETFROM:+0000
TZOFFSETTO:+0100
TZNAME:BST
END:DAYLIGHT
END:VTIMEZONE
END:VCALENDAR