BEGIN:VCALENDAR
VERSION:2.0
PRODID:-//wp-events-plugin.com//7.2.2.1//EN
BEGIN:VEVENT
UID:83@lovewokingham.co.uk
DTSTART;TZID=Europe/London:20211021T193000
DTEND;TZID=Europe/London:20211021T220000
DTSTAMP:20210930T085932Z
URL:https://www.lovewokingham.co.uk/events/judas-the-black-messahia
SUMMARY:Judas & The Black Messiah
DESCRIPTION:Offered a plea deal by the FBI\, William O'Neal infiltrates the
  Illinois chapter of the Black Panther Party
ATTACH;FMTTYPE=image/jpeg:https://www.lovewokingham.co.uk/wp-content/uploa
 ds/2021/09/judas.jpg
CATEGORIES:Mailchimp Events
LOCATION:The Whitty Theatre\, Luckley Road\, Wokingham\, Berkshire\, RG403E
 U\, United Kingdom
GEO:51.398838;-0.839821
X-APPLE-STRUCTURED-LOCATION;VALUE=URI;X-ADDRESS=Luckley Road\, Wokingham\, 
 Berkshire\, RG403EU\, United Kingdom;X-APPLE-RADIUS=100;X-TITLE=The Whitty
  Theatre:geo:51.398838,-0.839821
END:VEVENT
BEGIN:VTIMEZONE
TZID:Europe/London
X-LIC-LOCATION:Europe/London
BEGIN:DAYLIGHT
DTSTART:20210328T020000
TZOFFSETFROM:+0000
TZOFFSETTO:+0100
TZNAME:BST
END:DAYLIGHT
END:VTIMEZONE
END:VCALENDAR