BEGIN:VCALENDAR
VERSION:2.0
PRODID:-//wp-events-plugin.com//7.2.2.1//EN
BEGIN:VEVENT
UID:260@lovewokingham.co.uk
DTSTART;TZID=Europe/London:20230505T210000
DTEND;TZID=Europe/London:20230505T230000
DTSTAMP:20230425T121212Z
URL:https://www.lovewokingham.co.uk/events/karaoke-at-the-dog-and-duck
SUMMARY:Karaoke at The Dog and Duck
DESCRIPTION:Be the next Karaoke King or Queen!
ATTACH;FMTTYPE=image/jpeg:https://www.lovewokingham.co.uk/wp-content/uploa
 ds/2023/04/334524221_448903720726751_3390814976653201820_n.jpg
CATEGORIES:Mailchimp Events
LOCATION:The Dog and Duck Pub\, Matthewsgreen Road\, Wokingham\, Berkshire\
 , RG41 1JT\, United Kingdom
X-APPLE-STRUCTURED-LOCATION;VALUE=URI;X-ADDRESS=Matthewsgreen Road\, Woking
 ham\, Berkshire\, RG41 1JT\, United Kingdom;X-APPLE-RADIUS=100;X-TITLE=The
  Dog and Duck Pub:geo:0,0
END:VEVENT
BEGIN:VTIMEZONE
TZID:Europe/London
X-LIC-LOCATION:Europe/London
BEGIN:DAYLIGHT
DTSTART:20230326T020000
TZOFFSETFROM:+0000
TZOFFSETTO:+0100
TZNAME:BST
END:DAYLIGHT
END:VTIMEZONE
END:VCALENDAR