BEGIN:VCALENDAR
VERSION:2.0
PRODID:-//wp-events-plugin.com//7.2.2.1//EN
BEGIN:VEVENT
UID:600@lovewokingham.co.uk
DTSTART;TZID=Europe/London:20240606T193000
DTEND;TZID=Europe/London:20240606T223000
DTSTAMP:20240530T193512Z
URL:https://www.lovewokingham.co.uk/events/karaoke-night-at-broad-st-taver
 n
SUMMARY:Karaoke Night at Broad St Tavern
DESCRIPTION:Every Thursday
ATTACH;FMTTYPE=image/jpeg:https://www.lovewokingham.co.uk/wp-content/uploa
 ds/2024/05/csm_423422765_1367098630646138_1940873721557453309_n_83c82a0801
 .jpg
CATEGORIES:Mailchimp Events
LOCATION:Broad Street Tavern\, 29 Broad Street\, Wokingham\, Berkshire\, RG
 40 1AU\, Berkshire\, United Kingdom
X-APPLE-STRUCTURED-LOCATION;VALUE=URI;X-ADDRESS=29 Broad Street\, Wokingham
 \, Berkshire\, RG40 1AU\, Berkshire\, United Kingdom;X-APPLE-RADIUS=100;X-
 TITLE=Broad Street Tavern:geo:0,0
END:VEVENT
BEGIN:VTIMEZONE
TZID:Europe/London
X-LIC-LOCATION:Europe/London
BEGIN:DAYLIGHT
DTSTART:20240331T020000
TZOFFSETFROM:+0000
TZOFFSETTO:+0100
TZNAME:BST
END:DAYLIGHT
END:VTIMEZONE
END:VCALENDAR