BEGIN:VCALENDAR
VERSION:2.0
PRODID:-//wp-events-plugin.com//7.2.2.1//EN
BEGIN:VEVENT
UID:928@lovewokingham.co.uk
DTSTART;TZID=Europe/London:20251002T193000
DTEND;TZID=Europe/London:20251002T230000
DTSTAMP:20250909T134352Z
URL:https://www.lovewokingham.co.uk/events/karaoke-night
SUMMARY:Karaoke Night
DESCRIPTION:Karaoke night every Thursday from 7:30pmFree Entry
ATTACH;FMTTYPE=image/jpeg:https://www.lovewokingham.co.uk/wp-content/uploa
 ds/2025/09/490565914_1201888655269512_1817688756577834736_n.jpg
CATEGORIES:Mailchimp Events
LOCATION:Broad Street Tavern\, 29 Broad Street\, Wokingham\, Berkshire\, RG
 40 1AU\, Berkshire\, United Kingdom
X-APPLE-STRUCTURED-LOCATION;VALUE=URI;X-ADDRESS=29 Broad Street\, Wokingham
 \, Berkshire\, RG40 1AU\, Berkshire\, United Kingdom;X-APPLE-RADIUS=100;X-
 TITLE=Broad Street Tavern:geo:0,0
END:VEVENT
BEGIN:VTIMEZONE
TZID:Europe/London
X-LIC-LOCATION:Europe/London
BEGIN:DAYLIGHT
DTSTART:20250330T020000
TZOFFSETFROM:+0000
TZOFFSETTO:+0100
TZNAME:BST
END:DAYLIGHT
END:VTIMEZONE
END:VCALENDAR