BEGIN:VCALENDAR
VERSION:2.0
PRODID:-//wp-events-plugin.com//7.2.2.1//EN
BEGIN:VEVENT
UID:292@lovewokingham.co.uk
DTSTART;TZID=Europe/London:20230901T200000
DTEND;TZID=Europe/London:20230901T223000
DTSTAMP:20230616T114353Z
URL:https://www.lovewokingham.co.uk/events/kossoff-the-band-plays-on
SUMMARY:Kossoff...The Band Plays On
DESCRIPTION:Blues-Rock music
ATTACH;FMTTYPE=image/jpeg:https://www.lovewokingham.co.uk/wp-content/uploa
 ds/2023/06/kossoff.jpeg
CATEGORIES:Mailchimp Events
LOCATION:Royal British Legion\, Woodward Close\, Wokingham\, Berkshire\, RG
 415LP\, United Kingdom
X-APPLE-STRUCTURED-LOCATION;VALUE=URI;X-ADDRESS=Woodward Close\, Wokingham\
 , Berkshire\, RG415LP\, United Kingdom;X-APPLE-RADIUS=100;X-TITLE=Royal Br
 itish Legion:geo:0,0
END:VEVENT
BEGIN:VTIMEZONE
TZID:Europe/London
X-LIC-LOCATION:Europe/London
BEGIN:DAYLIGHT
DTSTART:20230326T020000
TZOFFSETFROM:+0000
TZOFFSETTO:+0100
TZNAME:BST
END:DAYLIGHT
END:VTIMEZONE
END:VCALENDAR