BEGIN:VCALENDAR
VERSION:2.0
PRODID:-//wp-events-plugin.com//7.2.2.1//EN
BEGIN:VEVENT
UID:165@lovewokingham.co.uk
DTSTART;TZID=Europe/London:20221209T190000
DTEND;TZID=Europe/London:20221209T214500
DTSTAMP:20221130T173109Z
URL:https://www.lovewokingham.co.uk/events/led-into-zeppelin-in-concert
SUMMARY:Led into Zeppelin in concert
DESCRIPTION:Led Into Zeppelin are the UK’s most accurate and authentic tr
 ibute show to the legendary rock band Led Zeppelin.\nThey are acclaimed by
  many.The seasoned\, professional musicians in the band are:\nPaul Bradsha
 w – Vocals\nChris Preston – Guitar\nDamon Waite -Drums\nPete Betts– 
 Bass\nJason Scott Wilkinson – Keys\nThe show focuses on the early to mid
  70’s Zeppelin\, covering all the classics\, some surprises and rarely p
 erformed songs.
ATTACH;FMTTYPE=image/jpeg:https://www.lovewokingham.co.uk/wp-content/uploa
 ds/2022/11/led-e1669829460770.jpg
CATEGORIES:Mailchimp Events
LOCATION:Royal British Legion\, Woodward Close\, Wokingham\, Berkshire\, RG
 415LP\, United Kingdom
X-APPLE-STRUCTURED-LOCATION;VALUE=URI;X-ADDRESS=Woodward Close\, Wokingham\
 , Berkshire\, RG415LP\, United Kingdom;X-APPLE-RADIUS=100;X-TITLE=Royal Br
 itish Legion:geo:0,0
END:VEVENT
BEGIN:VTIMEZONE
TZID:Europe/London
X-LIC-LOCATION:Europe/London
BEGIN:STANDARD
DTSTART:20221030T010000
TZOFFSETFROM:+0100
TZOFFSETTO:+0000
TZNAME:GMT
END:STANDARD
END:VTIMEZONE
END:VCALENDAR