BEGIN:VCALENDAR
VERSION:2.0
PRODID:-//wp-events-plugin.com//7.2.2.1//EN
BEGIN:VEVENT
UID:143@lovewokingham.co.uk
DTSTART;TZID=Europe/London:20221020T194500
DTEND;TZID=Europe/London:20221029T223000
DTSTAMP:20221013T124502Z
URL:https://www.lovewokingham.co.uk/events/les-liaisons-dangereuses
SUMMARY:Les Liaisons Dangereuses
DESCRIPTION:A play of seduction and revenge
ATTACH;FMTTYPE=image/jpeg:https://www.lovewokingham.co.uk/wp-content/uploa
 ds/2022/10/296940471_5292263614189918_1329833200275364795_n.jpg
CATEGORIES:Mailchimp Events
LOCATION:Wokingham Theatre\, Twyford Road\, Wokingham\, Berkshire\, RG405TU
 \, United Kingdom
GEO:51.420902;-0.840946
X-APPLE-STRUCTURED-LOCATION;VALUE=URI;X-ADDRESS=Twyford Road\, Wokingham\, 
 Berkshire\, RG405TU\, United Kingdom;X-APPLE-RADIUS=100;X-TITLE=Wokingham 
 Theatre:geo:51.420902,-0.840946
END:VEVENT
BEGIN:VTIMEZONE
TZID:Europe/London
X-LIC-LOCATION:Europe/London
BEGIN:DAYLIGHT
DTSTART:20220327T020000
TZOFFSETFROM:+0000
TZOFFSETTO:+0100
TZNAME:BST
END:DAYLIGHT
END:VTIMEZONE
END:VCALENDAR