BEGIN:VCALENDAR
VERSION:2.0
PRODID:-//wp-events-plugin.com//7.2.2.1//EN
BEGIN:VEVENT
UID:93@lovewokingham.co.uk
DTSTART;TZID=Europe/London:20211210T190000
DTEND;TZID=Europe/London:20211210T220000
DTSTAMP:20210930T155637Z
URL:https://www.lovewokingham.co.uk/events/level-42-tribute-never-42
SUMMARY:Level 42 Tribute - Never 42
DESCRIPTION:Level 42 tribute band - Never 42 are back at Wokingham Music Cl
 ub\, bringing you Level 42's classic tracks\, LIVE!\nTickets £18 in advan
 ce or £21 on the door\n\nTickets: http://www.ticketsource.co.uk/wokingha
 mmusicclub
ATTACH;FMTTYPE=image/jpeg:https://www.lovewokingham.co.uk/wp-content/uploa
 ds/2021/09/level42.jpg
LOCATION:Royal British Legion\, Woodward Close\, Wokingham\, Berkshire\, RG
 415LP\, United Kingdom
X-APPLE-STRUCTURED-LOCATION;VALUE=URI;X-ADDRESS=Woodward Close\, Wokingham\
 , Berkshire\, RG415LP\, United Kingdom;X-APPLE-RADIUS=100;X-TITLE=Royal Br
 itish Legion:geo:0,0
END:VEVENT
BEGIN:VTIMEZONE
TZID:Europe/London
X-LIC-LOCATION:Europe/London
BEGIN:STANDARD
DTSTART:20211031T010000
TZOFFSETFROM:+0100
TZOFFSETTO:+0000
TZNAME:GMT
END:STANDARD
END:VTIMEZONE
END:VCALENDAR