BEGIN:VCALENDAR
VERSION:2.0
PRODID:-//wp-events-plugin.com//7.2.2.1//EN
BEGIN:VEVENT
UID:693@lovewokingham.co.uk
DTSTART;TZID=Europe/London:20241119T183000
DTEND;TZID=Europe/London:20241119T203000
DTSTAMP:20240926T100653Z
URL:https://www.lovewokingham.co.uk/events/link-visiting-scheme-charity-cu
 rry-night
SUMMARY:Link Visiting Scheme Charity Curry Night
DESCRIPTION:Join The Link Visiting Scheme for a Charity Curry Night!\n\nA f
 undraising evening at The Tamarind Tree restaurant in Wokingham\, with a s
 ilent auction and raffle\, where proceeds go directly to our work.\n\nOur 
 Charity Curry Night promises an evening of great food\, vibrant company\, 
 and a whole lot of generosity! Here's what you can expect:\n\n2-Course Din
 ner: Treat yourself to a delightful two-course meal (starter and main)\n\n
 To ensure your dining experience is perfect\, please provide us with your 
 dietary requirements (when you purchase your ticket).\n\nTickets are price
 d at £22.50 per person. https://www.ticketsource.co.uk/the-link-visiting
 -scheme\n\nYour ticket includes both the starter and main course\, we kind
 ly ask guests to purchase their own drinks at the venue.\n\nRaffle and Sil
 ent Auction
ATTACH;FMTTYPE=image/jpeg:https://www.lovewokingham.co.uk/wp-content/uploa
 ds/2024/09/currynight.jpg
CATEGORIES:Mailchimp Events
LOCATION:The Tamarind Tree\, 54 Peach Street\, Wokingham\, Berkshire\, RG40
  1XQ\, United Kingdom
GEO:51.41108;-0.830938
X-APPLE-STRUCTURED-LOCATION;VALUE=URI;X-ADDRESS=54 Peach Street\, Wokingham
 \, Berkshire\, RG40 1XQ\, United Kingdom;X-APPLE-RADIUS=100;X-TITLE=The Ta
 marind Tree:geo:51.41108,-0.830938
END:VEVENT
BEGIN:VTIMEZONE
TZID:Europe/London
X-LIC-LOCATION:Europe/London
BEGIN:STANDARD
DTSTART:20241027T010000
TZOFFSETFROM:+0100
TZOFFSETTO:+0000
TZNAME:GMT
END:STANDARD
END:VTIMEZONE
END:VCALENDAR