BEGIN:VCALENDAR
VERSION:2.0
PRODID:-//wp-events-plugin.com//7.2.2.1//EN
BEGIN:VEVENT
UID:257@lovewokingham.co.uk
DTSTART;TZID=Europe/London:20230504T184500
DTEND;TZID=Europe/London:20230504T214500
DTSTAMP:20230425T120519Z
URL:https://www.lovewokingham.co.uk/events/live-at-the-grasshopper-bar
SUMMARY:Live at The Grasshopper Bar
DESCRIPTION:Songs from the Rat Pack era
ATTACH;FMTTYPE=image/jpeg:https://www.lovewokingham.co.uk/wp-content/uploa
 ds/2023/04/331243544_230879299301978_7540569579914008723_n-e1682424102910.
 jpg
CATEGORIES:Mailchimp Events
LOCATION:The Grasshopper Bar\, 56 -58 Rose Street\, Wokingham\, RG40 1XU\, 
 Berkshire\, United Kingdom
X-APPLE-STRUCTURED-LOCATION;VALUE=URI;X-ADDRESS=56 -58 Rose Street\, Woking
 ham\, RG40 1XU\, Berkshire\, United Kingdom;X-APPLE-RADIUS=100;X-TITLE=The
  Grasshopper Bar:geo:0,0
END:VEVENT
BEGIN:VTIMEZONE
TZID:Europe/London
X-LIC-LOCATION:Europe/London
BEGIN:DAYLIGHT
DTSTART:20230326T020000
TZOFFSETFROM:+0000
TZOFFSETTO:+0100
TZNAME:BST
END:DAYLIGHT
END:VTIMEZONE
END:VCALENDAR