BEGIN:VCALENDAR
VERSION:2.0
PRODID:-//wp-events-plugin.com//7.2.2.1//EN
BEGIN:VEVENT
UID:241@lovewokingham.co.uk
DTSTART;TZID=Europe/London:20230415T200000
DTEND;TZID=Europe/London:20230415T220000
DTSTAMP:20230331T095348Z
URL:https://www.lovewokingham.co.uk/events/live-music-at-the-white-horse
SUMMARY:Live Music at The White Horse
DESCRIPTION:Matt Bond
ATTACH;FMTTYPE=image/jpeg:https://www.lovewokingham.co.uk/wp-content/uploa
 ds/2023/03/327529550_1225639511638252_4700124783558084163_n.jpg
CATEGORIES:Mailchimp Events
LOCATION:The White Horse Pub\, Easthampstead Road\, Wokingham\, United King
 dom
X-APPLE-STRUCTURED-LOCATION;VALUE=URI;X-ADDRESS=Easthampstead Road\, Woking
 ham\, United Kingdom;X-APPLE-RADIUS=100;X-TITLE=The White Horse Pub:geo:0,
 0
END:VEVENT
BEGIN:VTIMEZONE
TZID:Europe/London
X-LIC-LOCATION:Europe/London
BEGIN:DAYLIGHT
DTSTART:20230326T020000
TZOFFSETFROM:+0000
TZOFFSETTO:+0100
TZNAME:BST
END:DAYLIGHT
END:VTIMEZONE
END:VCALENDAR