BEGIN:VCALENDAR
VERSION:2.0
PRODID:-//wp-events-plugin.com//7.2.2.1//EN
BEGIN:VEVENT
UID:130@lovewokingham.co.uk
DTSTART;TZID=Europe/London:20220917T110000
DTEND;TZID=Europe/London:20220917T130000
DTSTAMP:20220621T114317Z
URL:https://www.lovewokingham.co.uk/events/live-music-elms-field-bwcb-liqu
 orice-allsorts
SUMMARY:Live Music. Elms Field - BWCB Liquorice Allsorts
DESCRIPTION:The BWCB Liquorice Allsorts will be playing from 11am. This awa
 rd winning clarinet ensemble cater for all musical tastes and play well kn
 own classics\, excerpts from musicals and other popular music. Bring a cha
 ir\, picnic\, and sit back and enjoy the music.
ATTACH;FMTTYPE=image/jpeg:https://www.lovewokingham.co.uk/wp-content/uploa
 ds/2022/06/3.png
LOCATION:Elms Field\, Earle Cresent\, Wokingham\, RG40 1DE\, United Kingdom
X-APPLE-STRUCTURED-LOCATION;VALUE=URI;X-ADDRESS=Earle Cresent\, Wokingham\,
  RG40 1DE\, United Kingdom;X-APPLE-RADIUS=100;X-TITLE=Elms Field:geo:0,0
END:VEVENT
BEGIN:VTIMEZONE
TZID:Europe/London
X-LIC-LOCATION:Europe/London
BEGIN:DAYLIGHT
DTSTART:20220327T020000
TZOFFSETFROM:+0000
TZOFFSETTO:+0100
TZNAME:BST
END:DAYLIGHT
END:VTIMEZONE
END:VCALENDAR