BEGIN:VCALENDAR
VERSION:2.0
PRODID:-//wp-events-plugin.com//7.2.2.1//EN
BEGIN:VEVENT
UID:848@lovewokingham.co.uk
DTSTART;TZID=Europe/London:20250531T193000
DTEND;TZID=Europe/London:20250531T223000
DTSTAMP:20250409T154944Z
URL:https://www.lovewokingham.co.uk/events/live-music-the-very-beautiful-s
 outh
SUMMARY:Live Music - The Very Beautiful South
DESCRIPTION:Wokingham Music Club presents: Very Beautiful South - Evening S
 how\nVery Beautiful South are the UKs most authentic tribute to The Beauti
 ful South and the genius songwriting partnership of Paul Heaton &amp\; Dav
 id Rotheray.\nBetween 1989 and 2006\, The Beautiful South clocked-up no le
 ss than 20 UK Top-30 hits with most making it into the UK Top-10\, includi
 ng the No.1 hit A Little Time and other classic songs such as: Perfect 10\
 , Rotterdam\, Old Red Eyes\, Good As Gold\, and Don’t Marry Her.\n\nTick
 ets £22 https://www.ticketsource.co.uk/wokinghammusicclub/very-beautiful
 -south-evening-show/e-eypkva\n\nCan't make the evening? Matinee show at 2.
 30pm too!
ATTACH;FMTTYPE=image/jpeg:https://www.lovewokingham.co.uk/wp-content/uploa
 ds/2025/04/18018-16991749683231-s.webp
CATEGORIES:Mailchimp Events
LOCATION:The Whitty Theatre\, Luckley Road\, Wokingham\, Berkshire\, RG403E
 U\, United Kingdom
GEO:51.398838;-0.839821
X-APPLE-STRUCTURED-LOCATION;VALUE=URI;X-ADDRESS=Luckley Road\, Wokingham\, 
 Berkshire\, RG403EU\, United Kingdom;X-APPLE-RADIUS=100;X-TITLE=The Whitty
  Theatre:geo:51.398838,-0.839821
END:VEVENT
BEGIN:VTIMEZONE
TZID:Europe/London
X-LIC-LOCATION:Europe/London
BEGIN:DAYLIGHT
DTSTART:20250330T020000
TZOFFSETFROM:+0000
TZOFFSETTO:+0100
TZNAME:BST
END:DAYLIGHT
END:VTIMEZONE
END:VCALENDAR