BEGIN:VCALENDAR
VERSION:2.0
PRODID:-//wp-events-plugin.com//7.2.2.1//EN
BEGIN:VEVENT
UID:488@lovewokingham.co.uk
DTSTART;TZID=Europe/London:20240223T200000
DTEND;TZID=Europe/London:20240223T224500
DTSTAMP:20240111T122836Z
URL:https://www.lovewokingham.co.uk/events/live-music-tony-moore-awake
SUMMARY:Live Music: Tony Moore - AWAKE!
DESCRIPTION:Wokingham Music Club presents Tony Moore-Awake! one man show\n\
 nTony's journey in the music industry has been nothing short of legendary\
 , from being an original member of Iron Maiden to playing with Meatloaf an
 d hitting the charts with his own band in Holland to touring the world as 
 a member of the band Cutting Crew (I Just Died In Your Arms Tonight).\n\nT
 ickets £18:  https://www.ticketsource.co.uk/wokinghammusicclub/tony-moo
 re-awake/e-dggjxd
ATTACH;FMTTYPE=image/jpeg:https://www.lovewokingham.co.uk/wp-content/uploa
 ds/2024/01/Picture1.png
CATEGORIES:Mailchimp Events
LOCATION:Royal British Legion\, Woodward Close\, Wokingham\, Berkshire\, RG
 415LP\, United Kingdom
X-APPLE-STRUCTURED-LOCATION;VALUE=URI;X-ADDRESS=Woodward Close\, Wokingham\
 , Berkshire\, RG415LP\, United Kingdom;X-APPLE-RADIUS=100;X-TITLE=Royal Br
 itish Legion:geo:0,0
END:VEVENT
BEGIN:VTIMEZONE
TZID:Europe/London
X-LIC-LOCATION:Europe/London
BEGIN:STANDARD
DTSTART:20231029T010000
TZOFFSETFROM:+0100
TZOFFSETTO:+0000
TZNAME:GMT
END:STANDARD
END:VTIMEZONE
END:VCALENDAR