BEGIN:VCALENDAR
VERSION:2.0
PRODID:-//wp-events-plugin.com//7.2.2.1//EN
BEGIN:VEVENT
UID:639@lovewokingham.co.uk
DTSTART;TZID=Europe/London:20240726T204500
DTEND;TZID=Europe/London:20240726T223000
DTSTAMP:20240627T123619Z
URL:https://www.lovewokingham.co.uk/events/live-musiv-the-deltas
SUMMARY:Live Musiv - The Deltas
DESCRIPTION:Put some blues in your soul with the Deltas at The Broad Street
  Tavern.\n\nFree entry
ATTACH;FMTTYPE=image/jpeg:https://www.lovewokingham.co.uk/wp-content/uploa
 ds/2024/06/436357787_1048877306802613_354604767627185947_n.jpg
CATEGORIES:Mailchimp Events
LOCATION:The Broad St Tavern\, Broad Street\, Wokingham\, United Kingdom
GEO:51.410965;-0.834923
X-APPLE-STRUCTURED-LOCATION;VALUE=URI;X-ADDRESS=Broad Street\, Wokingham\, 
 United Kingdom;X-APPLE-RADIUS=100;X-TITLE=The Broad St Tavern:geo:51.41096
 5,-0.834923
END:VEVENT
BEGIN:VTIMEZONE
TZID:Europe/London
X-LIC-LOCATION:Europe/London
BEGIN:DAYLIGHT
DTSTART:20240331T020000
TZOFFSETFROM:+0000
TZOFFSETTO:+0100
TZNAME:BST
END:DAYLIGHT
END:VTIMEZONE
END:VCALENDAR