BEGIN:VCALENDAR
VERSION:2.0
PRODID:-//wp-events-plugin.com//7.2.2.1//EN
BEGIN:VEVENT
UID:933@lovewokingham.co.uk
DTSTART;TZID=Europe/London:20251014T180000
DTEND;TZID=Europe/London:20251014T220000
DTSTAMP:20250909T143422Z
URL:https://www.lovewokingham.co.uk/events/lorcana-casual-play-night
SUMMARY:Lorcana Casual Play Night
DESCRIPTION:So we don't know what this is ourselves but have been reliably 
 informed it's a TCG card game!\n\nRuns every second Tuesday at Elemental C
 ards in Holme Grange Craft Village\n\n6:00 PM – 10:00 PM\nFree Entry –
  No Deck Needed!\nWhether you're brand new or a seasoned Illumineer\, this
  is your chance to sharpen your skills\, try new strategies\, and chat abo
 ut the the ever expanding world of Lorcana\nThis is a great opportunity to
  test out different deck styles before the new set arrives.\nNo deck? No p
 roblem – demo decks ready to play!\nPlay with friends or meet new challe
 ngers in a relaxed\, friendly environment.\nStrategy help available from o
 ur team on the night.\nThis is the perfect night to learn\, play\, and get
  hyped for what’s next in the world of Lorcana!\n\nFeel free to bring dr
 inks and snacks too
ATTACH;FMTTYPE=image/jpeg:https://www.lovewokingham.co.uk/wp-content/uploa
 ds/2025/09/518216630_122182877678343792_4023468843093264845_n.jpg
CATEGORIES:Mailchimp Events
LOCATION:Elemental Cards at Holme Grange Craft Village\, Unit 4 Heathlands 
 Road\, Wokingham\, RG40 3AW\, United Kingdom
GEO:51.384045;-0.813999
X-APPLE-STRUCTURED-LOCATION;VALUE=URI;X-ADDRESS=Unit 4 Heathlands Road\, Wo
 kingham\, RG40 3AW\, United Kingdom;X-APPLE-RADIUS=100;X-TITLE=Elemental C
 ards at Holme Grange Craft Village:geo:51.384045,-0.813999
END:VEVENT
BEGIN:VTIMEZONE
TZID:Europe/London
X-LIC-LOCATION:Europe/London
BEGIN:DAYLIGHT
DTSTART:20250330T020000
TZOFFSETFROM:+0000
TZOFFSETTO:+0100
TZNAME:BST
END:DAYLIGHT
END:VTIMEZONE
END:VCALENDAR