BEGIN:VCALENDAR
VERSION:2.0
PRODID:-//wp-events-plugin.com//7.2.2.1//EN
BEGIN:VEVENT
UID:978@lovewokingham.co.uk
DTSTART;TZID=Europe/London:20260121T190000
DTEND;TZID=Europe/London:20260121T220000
DTSTAMP:20251126T095536Z
URL:https://www.lovewokingham.co.uk/events/love-song-charity-theatre-perfo
 rmance
SUMMARY:Love Song Charity Theatre Performance
DESCRIPTION:A special preview performance of the play "Lovesong" to raise f
 unds for The Wokingham Foodbank.\n"Lovesong" is set in current times\, tel
 ling the story of a couple\, William and Margaret\, through different stag
 es of their lives\, exploring the complexities of love\, loss\, and memory
 . The play follows them as young lovers\, then as an older couple\, and in
 corporates moments where their younger and older selves interact\, blurrin
 g the lines between past and present. A funny and moving play reflecting o
 n life.\nDoors open at 7pm for the Foyer Bar. Play starts at 7.45pm.\nTick
 ets £21\, includes entry to the Charity Raffle\, which is generously prov
 ided by local businesses.\nBookings by email only please to Wokingham41Clu
 b@gmail.com\nThis event is organised by Wokingham 41 Club to raise funds f
 or The Wokingham Foodbank.
ATTACH;FMTTYPE=image/jpeg:https://www.lovewokingham.co.uk/wp-content/uploa
 ds/2025/11/508706635_122135452718646806_929314254176609948_n.jpg
CATEGORIES:Mailchimp Events
LOCATION:Wokingham Theatre\, Twyford Road\, Wokingham\, Berkshire\, RG405TU
 \, United Kingdom
GEO:51.420902;-0.840946
X-APPLE-STRUCTURED-LOCATION;VALUE=URI;X-ADDRESS=Twyford Road\, Wokingham\, 
 Berkshire\, RG405TU\, United Kingdom;X-APPLE-RADIUS=100;X-TITLE=Wokingham 
 Theatre:geo:51.420902,-0.840946
END:VEVENT
BEGIN:VTIMEZONE
TZID:Europe/London
X-LIC-LOCATION:Europe/London
BEGIN:STANDARD
DTSTART:20251026T010000
TZOFFSETFROM:+0100
TZOFFSETTO:+0000
TZNAME:GMT
END:STANDARD
END:VTIMEZONE
END:VCALENDAR